BEGIN:VCALENDAR
VERSION:2.0
PRODID:Schulmanager Online
CALSCALE:GREGORIAN
BEGIN:VTIMEZONE
TZID:Europe/Berlin
X-LIC-LOCATION:Europe/Berlin
LAST-MODIFIED:20240205T192834Z
BEGIN:DAYLIGHT
TZNAME:CEST
TZOFFSETFROM:+0100
TZOFFSETTO:+0200
DTSTART:19700329T020000
RRULE:FREQ=YEARLY;BYMONTH=3;BYDAY=-1SU
END:DAYLIGHT
BEGIN:STANDARD
TZNAME:CET
TZOFFSETFROM:+0200
TZOFFSETTO:+0100
DTSTART:19701025T030000
RRULE:FREQ=YEARLY;BYMONTH=10;BYDAY=-1SU
END:STANDARD
END:VTIMEZONE
TIMEZONE-ID:Europe/Berlin
X-WR-TIMEZONE:Europe/Berlin
BEGIN:VEVENT
UID:4499730@schulmanager-online.de
DTSTAMP:20260423T161825Z
CREATED:20251012T085826Z
LAST-MODIFIED:20251022T204039Z
SUMMARY:Kein Nachmittagsunterricht - Osterferien
DTSTART;TZID=Europe/Berlin:20260327T130000
DTEND;TZID=Europe/Berlin:20260327T170000
LOCATION:
DESCRIPTION:Der Untrricht endet nach der 6. Stunde
END:VEVENT
BEGIN:VEVENT
UID:4499734@schulmanager-online.de
DTSTAMP:20260423T161825Z
CREATED:20251012T090204Z
LAST-MODIFIED:20251012T090204Z
SUMMARY:Unterrichtsfrei ab 5.Stunde - Weihnachtsferien
DTSTART;TZID=Europe/Berlin:20251219T110500
DTEND;TZID=Europe/Berlin:20251219T170000
LOCATION:
DESCRIPTION:
END:VEVENT
BEGIN:VEVENT
UID:4499748@schulmanager-online.de
DTSTAMP:20260423T161825Z
CREATED:20251012T091048Z
LAST-MODIFIED:20251201T140603Z
SUMMARY:Unterricht entfällt nach der 5. Stunde - Notenkonferenzen
DTSTART;TZID=Europe/Berlin:20260127T121000
DTEND;TZID=Europe/Berlin:20260127T170000
LOCATION:
DESCRIPTION:
END:VEVENT
BEGIN:VEVENT
UID:4499746@schulmanager-online.de
DTSTAMP:20260423T161825Z
CREATED:20251012T091019Z
LAST-MODIFIED:20251201T140534Z
SUMMARY:Unterricht entfällt nach der 5. Stunde - Notenkonferenzen
DTSTART;TZID=Europe/Berlin:20260126T121000
DTEND;TZID=Europe/Berlin:20260126T170000
LOCATION:
DESCRIPTION:
END:VEVENT
END:VCALENDAR