BEGIN:VCALENDAR
VERSION:2.0
PRODID:Schulmanager Online
CALSCALE:GREGORIAN
BEGIN:VTIMEZONE
TZID:Europe/Berlin
X-LIC-LOCATION:Europe/Berlin
LAST-MODIFIED:20240205T192834Z
BEGIN:DAYLIGHT
TZNAME:CEST
TZOFFSETFROM:+0100
TZOFFSETTO:+0200
DTSTART:19700329T020000
RRULE:FREQ=YEARLY;BYMONTH=3;BYDAY=-1SU
END:DAYLIGHT
BEGIN:STANDARD
TZNAME:CET
TZOFFSETFROM:+0200
TZOFFSETTO:+0100
DTSTART:19701025T030000
RRULE:FREQ=YEARLY;BYMONTH=10;BYDAY=-1SU
END:STANDARD
END:VTIMEZONE
TIMEZONE-ID:Europe/Berlin
X-WR-TIMEZONE:Europe/Berlin
BEGIN:VEVENT
UID:-1225827@schulmanager-online.de
DTSTAMP:20260423T161825Z
CREATED:20240115T200814Z
LAST-MODIFIED:20240115T200814Z
SUMMARY:Weihnachtsferien
DTSTART;VALUE=DATE:20231223
DTEND;VALUE=DATE:20240106
LOCATION:
DESCRIPTION:
END:VEVENT
BEGIN:VEVENT
UID:-1225831@schulmanager-online.de
DTSTAMP:20260423T161825Z
CREATED:20240115T200814Z
LAST-MODIFIED:20240115T200814Z
SUMMARY:Christi Himmelfahrt
DTSTART;VALUE=DATE:20240509
DTEND;VALUE=DATE:20240510
LOCATION:
DESCRIPTION:
END:VEVENT
BEGIN:VEVENT
UID:-1225832@schulmanager-online.de
DTSTAMP:20260423T161825Z
CREATED:20240115T200814Z
LAST-MODIFIED:20240115T200814Z
SUMMARY:Tag der Arbeit / 1. Mai
DTSTART;VALUE=DATE:20240501
DTEND;VALUE=DATE:20240502
LOCATION:
DESCRIPTION:
END:VEVENT
BEGIN:VEVENT
UID:-1225837@schulmanager-online.de
DTSTAMP:20260423T161825Z
CREATED:20240115T200815Z
LAST-MODIFIED:20240115T200815Z
SUMMARY:2. Weihnachtstag
DTSTART;VALUE=DATE:20231226
DTEND;VALUE=DATE:20231227
LOCATION:
DESCRIPTION:
END:VEVENT
BEGIN:VEVENT
UID:-1225838@schulmanager-online.de
DTSTAMP:20260423T161825Z
CREATED:20240115T200815Z
LAST-MODIFIED:20240115T200815Z
SUMMARY:1. Weihnachtstag
DTSTART;VALUE=DATE:20231225
DTEND;VALUE=DATE:20231226
LOCATION:
DESCRIPTION:
END:VEVENT
BEGIN:VEVENT
UID:-1225826@schulmanager-online.de
DTSTAMP:20260423T161825Z
CREATED:20240115T200814Z
LAST-MODIFIED:20240115T200814Z
SUMMARY:Herbstferien
DTSTART;VALUE=DATE:20231030
DTEND;VALUE=DATE:20231104
LOCATION:
DESCRIPTION:
END:VEVENT
BEGIN:VEVENT
UID:-1225829@schulmanager-online.de
DTSTAMP:20260423T161825Z
CREATED:20240115T200814Z
LAST-MODIFIED:20240115T200814Z
SUMMARY:Fronleichnam
DTSTART;VALUE=DATE:20240530
DTEND;VALUE=DATE:20240531
LOCATION:
DESCRIPTION:
END:VEVENT
BEGIN:VEVENT
UID:-1225834@schulmanager-online.de
DTSTAMP:20260423T161825Z
CREATED:20240115T200814Z
LAST-MODIFIED:20240115T200814Z
SUMMARY:Karfreitag
DTSTART;VALUE=DATE:20240329
DTEND;VALUE=DATE:20240330
LOCATION:
DESCRIPTION:
END:VEVENT
BEGIN:VEVENT
UID:-1225836@schulmanager-online.de
DTSTAMP:20260423T161825Z
CREATED:20240115T200815Z
LAST-MODIFIED:20240115T200815Z
SUMMARY:Neujahrstag
DTSTART;VALUE=DATE:20240101
DTEND;VALUE=DATE:20240102
LOCATION:
DESCRIPTION:
END:VEVENT
BEGIN:VEVENT
UID:-1225839@schulmanager-online.de
DTSTAMP:20260423T161825Z
CREATED:20240115T200815Z
LAST-MODIFIED:20240115T200815Z
SUMMARY:Allerheiligen
DTSTART;VALUE=DATE:20231101
DTEND;VALUE=DATE:20231102
LOCATION:
DESCRIPTION:
END:VEVENT
BEGIN:VEVENT
UID:-1225842@schulmanager-online.de
DTSTAMP:20260423T161825Z
CREATED:20240115T200815Z
LAST-MODIFIED:20240115T200815Z
SUMMARY:Pfingstferien
DTSTART;VALUE=DATE:20240521
DTEND;VALUE=DATE:20240601
LOCATION:
DESCRIPTION:
END:VEVENT
BEGIN:VEVENT
UID:-1225828@schulmanager-online.de
DTSTAMP:20260423T161825Z
CREATED:20240115T200814Z
LAST-MODIFIED:20240115T200814Z
SUMMARY:Sommerferien
DTSTART;VALUE=DATE:20230727
DTEND;VALUE=DATE:20230910
LOCATION:
DESCRIPTION:
END:VEVENT
BEGIN:VEVENT
UID:-1225830@schulmanager-online.de
DTSTAMP:20260423T161825Z
CREATED:20240115T200814Z
LAST-MODIFIED:20240115T200814Z
SUMMARY:Pfingstmontag
DTSTART;VALUE=DATE:20240520
DTEND;VALUE=DATE:20240521
LOCATION:
DESCRIPTION:
END:VEVENT
BEGIN:VEVENT
UID:-1225833@schulmanager-online.de
DTSTAMP:20260423T161825Z
CREATED:20240115T200814Z
LAST-MODIFIED:20240115T200814Z
SUMMARY:Ostermontag
DTSTART;VALUE=DATE:20240401
DTEND;VALUE=DATE:20240402
LOCATION:
DESCRIPTION:
END:VEVENT
BEGIN:VEVENT
UID:-1225835@schulmanager-online.de
DTSTAMP:20260423T161825Z
CREATED:20240115T200815Z
LAST-MODIFIED:20240115T200815Z
SUMMARY:Heilige Drei Könige
DTSTART;VALUE=DATE:20240106
DTEND;VALUE=DATE:20240107
LOCATION:
DESCRIPTION:
END:VEVENT
BEGIN:VEVENT
UID:-1225843@schulmanager-online.de
DTSTAMP:20260423T161825Z
CREATED:20240115T200815Z
LAST-MODIFIED:20240115T200815Z
SUMMARY:Osterferien
DTSTART;VALUE=DATE:20240323
DTEND;VALUE=DATE:20240406
LOCATION:
DESCRIPTION:
END:VEVENT
BEGIN:VEVENT
UID:-1225840@schulmanager-online.de
DTSTAMP:20260423T161825Z
CREATED:20240115T200815Z
LAST-MODIFIED:20240115T200815Z
SUMMARY:Tag der Deutschen Einheit
DTSTART;VALUE=DATE:20231003
DTEND;VALUE=DATE:20231004
LOCATION:
DESCRIPTION:
END:VEVENT
BEGIN:VEVENT
UID:-1225841@schulmanager-online.de
DTSTAMP:20260423T161825Z
CREATED:20240115T200815Z
LAST-MODIFIED:20240115T200815Z
SUMMARY:Sommerferien
DTSTART;VALUE=DATE:20240725
DTEND;VALUE=DATE:20240908
LOCATION:
DESCRIPTION:
END:VEVENT
BEGIN:VEVENT
UID:-1278596@schulmanager-online.de
DTSTAMP:20260423T161825Z
CREATED:20240829T091444Z
LAST-MODIFIED:20240829T091444Z
SUMMARY:Herbstferien
DTSTART;VALUE=DATE:20241028
DTEND;VALUE=DATE:20241101
LOCATION:
DESCRIPTION:
END:VEVENT
BEGIN:VEVENT
UID:-1278597@schulmanager-online.de
DTSTAMP:20260423T161825Z
CREATED:20240829T091444Z
LAST-MODIFIED:20240829T091444Z
SUMMARY:Weihnachtsferien
DTSTART;VALUE=DATE:20241223
DTEND;VALUE=DATE:20250105
LOCATION:
DESCRIPTION:
END:VEVENT
BEGIN:VEVENT
UID:-1278598@schulmanager-online.de
DTSTAMP:20260423T161825Z
CREATED:20240829T091444Z
LAST-MODIFIED:20240829T091444Z
SUMMARY:Fronleichnam
DTSTART;VALUE=DATE:20250619
DTEND;VALUE=DATE:20250620
LOCATION:
DESCRIPTION:
END:VEVENT
BEGIN:VEVENT
UID:-1278599@schulmanager-online.de
DTSTAMP:20260423T161825Z
CREATED:20240829T091444Z
LAST-MODIFIED:20240829T091444Z
SUMMARY:Pfingstmontag
DTSTART;VALUE=DATE:20250609
DTEND;VALUE=DATE:20250610
LOCATION:
DESCRIPTION:
END:VEVENT
BEGIN:VEVENT
UID:-1278600@schulmanager-online.de
DTSTAMP:20260423T161825Z
CREATED:20240829T091444Z
LAST-MODIFIED:20240829T091444Z
SUMMARY:Christi Himmelfahrt
DTSTART;VALUE=DATE:20250529
DTEND;VALUE=DATE:20250530
LOCATION:
DESCRIPTION:
END:VEVENT
BEGIN:VEVENT
UID:-1278601@schulmanager-online.de
DTSTAMP:20260423T161825Z
CREATED:20240829T091444Z
LAST-MODIFIED:20240829T091444Z
SUMMARY:Tag der Arbeit / 1. Mai
DTSTART;VALUE=DATE:20250501
DTEND;VALUE=DATE:20250502
LOCATION:
DESCRIPTION:
END:VEVENT
BEGIN:VEVENT
UID:-1278602@schulmanager-online.de
DTSTAMP:20260423T161825Z
CREATED:20240829T091444Z
LAST-MODIFIED:20240829T091444Z
SUMMARY:Ostermontag
DTSTART;VALUE=DATE:20250421
DTEND;VALUE=DATE:20250422
LOCATION:
DESCRIPTION:
END:VEVENT
BEGIN:VEVENT
UID:-1278603@schulmanager-online.de
DTSTAMP:20260423T161825Z
CREATED:20240829T091444Z
LAST-MODIFIED:20240829T091444Z
SUMMARY:Karfreitag
DTSTART;VALUE=DATE:20250418
DTEND;VALUE=DATE:20250419
LOCATION:
DESCRIPTION:
END:VEVENT
BEGIN:VEVENT
UID:-1278604@schulmanager-online.de
DTSTAMP:20260423T161825Z
CREATED:20240829T091444Z
LAST-MODIFIED:20240829T091444Z
SUMMARY:Heilige Drei Könige
DTSTART;VALUE=DATE:20250106
DTEND;VALUE=DATE:20250107
LOCATION:
DESCRIPTION:
END:VEVENT
BEGIN:VEVENT
UID:-1278605@schulmanager-online.de
DTSTAMP:20260423T161825Z
CREATED:20240829T091444Z
LAST-MODIFIED:20240829T091444Z
SUMMARY:Neujahrstag
DTSTART;VALUE=DATE:20250101
DTEND;VALUE=DATE:20250102
LOCATION:
DESCRIPTION:
END:VEVENT
BEGIN:VEVENT
UID:-1278606@schulmanager-online.de
DTSTAMP:20260423T161825Z
CREATED:20240829T091444Z
LAST-MODIFIED:20240829T091444Z
SUMMARY:2. Weihnachtstag
DTSTART;VALUE=DATE:20241226
DTEND;VALUE=DATE:20241227
LOCATION:
DESCRIPTION:
END:VEVENT
BEGIN:VEVENT
UID:-1278607@schulmanager-online.de
DTSTAMP:20260423T161825Z
CREATED:20240829T091444Z
LAST-MODIFIED:20240829T091444Z
SUMMARY:1. Weihnachtstag
DTSTART;VALUE=DATE:20241225
DTEND;VALUE=DATE:20241226
LOCATION:
DESCRIPTION:
END:VEVENT
BEGIN:VEVENT
UID:-1278608@schulmanager-online.de
DTSTAMP:20260423T161825Z
CREATED:20240829T091444Z
LAST-MODIFIED:20240829T091444Z
SUMMARY:Allerheiligen
DTSTART;VALUE=DATE:20241101
DTEND;VALUE=DATE:20241102
LOCATION:
DESCRIPTION:
END:VEVENT
BEGIN:VEVENT
UID:-1278609@schulmanager-online.de
DTSTAMP:20260423T161825Z
CREATED:20240829T091444Z
LAST-MODIFIED:20240829T091444Z
SUMMARY:Tag der Deutschen Einheit
DTSTART;VALUE=DATE:20241003
DTEND;VALUE=DATE:20241004
LOCATION:
DESCRIPTION:
END:VEVENT
BEGIN:VEVENT
UID:-1278610@schulmanager-online.de
DTSTAMP:20260423T161825Z
CREATED:20240829T091444Z
LAST-MODIFIED:20240829T091444Z
SUMMARY:Sommerferien
DTSTART;VALUE=DATE:20250731
DTEND;VALUE=DATE:20250914
LOCATION:
DESCRIPTION:
END:VEVENT
BEGIN:VEVENT
UID:-1278611@schulmanager-online.de
DTSTAMP:20260423T161825Z
CREATED:20240829T091444Z
LAST-MODIFIED:20240829T091444Z
SUMMARY:Pfingstferien
DTSTART;VALUE=DATE:20250610
DTEND;VALUE=DATE:20250621
LOCATION:
DESCRIPTION:
END:VEVENT
BEGIN:VEVENT
UID:-1278612@schulmanager-online.de
DTSTAMP:20260423T161825Z
CREATED:20240829T091444Z
LAST-MODIFIED:20240829T091444Z
SUMMARY:Osterferien
DTSTART;VALUE=DATE:20250414
DTEND;VALUE=DATE:20250427
LOCATION:
DESCRIPTION:
END:VEVENT
BEGIN:VEVENT
UID:-1303961@schulmanager-online.de
DTSTAMP:20260423T161825Z
CREATED:20240930T063734Z
LAST-MODIFIED:20240930T063734Z
SUMMARY:Brückentag
DTSTART;VALUE=DATE:20241004
DTEND;VALUE=DATE:20241005
LOCATION:
DESCRIPTION:
END:VEVENT
BEGIN:VEVENT
UID:-1304040@schulmanager-online.de
DTSTAMP:20260423T161825Z
CREATED:20240930T113954Z
LAST-MODIFIED:20240930T113954Z
SUMMARY:Brückentag
DTSTART;VALUE=DATE:20250530
DTEND;VALUE=DATE:20250531
LOCATION:
DESCRIPTION:
END:VEVENT
BEGIN:VEVENT
UID:-1304041@schulmanager-online.de
DTSTAMP:20260423T161825Z
CREATED:20240930T114101Z
LAST-MODIFIED:20240930T114101Z
SUMMARY:Brückentag
DTSTART;VALUE=DATE:20250502
DTEND;VALUE=DATE:20250503
LOCATION:
DESCRIPTION:
END:VEVENT
BEGIN:VEVENT
UID:-1315687@schulmanager-online.de
DTSTAMP:20260423T161825Z
CREATED:20250220T092330Z
LAST-MODIFIED:20250220T092330Z
SUMMARY:Winterferien
DTSTART;VALUE=DATE:20250301
DTEND;VALUE=DATE:20250310
LOCATION:
DESCRIPTION:
END:VEVENT
BEGIN:VEVENT
UID:-1315794@schulmanager-online.de
DTSTAMP:20260423T161825Z
CREATED:20250221T075511Z
LAST-MODIFIED:20250221T075511Z
SUMMARY:Päd. Halbtag
DTSTART;VALUE=DATE:20250228
DTEND;VALUE=DATE:20250301
LOCATION:
DESCRIPTION:
END:VEVENT
BEGIN:VEVENT
UID:-1326367@schulmanager-online.de
DTSTAMP:20260423T161825Z
CREATED:20250625T094558Z
LAST-MODIFIED:20250625T094611Z
SUMMARY:Mündl. Abitur
DTSTART;VALUE=DATE:20250630
DTEND;VALUE=DATE:20250702
LOCATION:
DESCRIPTION:
END:VEVENT
BEGIN:VEVENT
UID:-1328608@schulmanager-online.de
DTSTAMP:20260423T161825Z
CREATED:20250703T122138Z
LAST-MODIFIED:20250703T122138Z
SUMMARY:Zeugniskonferenzen
DTSTART;VALUE=DATE:20250718
DTEND;VALUE=DATE:20250719
LOCATION:
DESCRIPTION:
END:VEVENT
BEGIN:VEVENT
UID:-1328609@schulmanager-online.de
DTSTAMP:20260423T161825Z
CREATED:20250703T122238Z
LAST-MODIFIED:20250703T122238Z
SUMMARY:Ausgleich für Schulfest
DTSTART;VALUE=DATE:20250728
DTEND;VALUE=DATE:20250729
LOCATION:
DESCRIPTION:
END:VEVENT
BEGIN:VEVENT
UID:-1381374@schulmanager-online.de
DTSTAMP:20260423T161825Z
CREATED:20250909T093328Z
LAST-MODIFIED:20250909T093328Z
SUMMARY:Herbstferien
DTSTART;VALUE=DATE:20251027
DTEND;VALUE=DATE:20251101
LOCATION:
DESCRIPTION:
END:VEVENT
BEGIN:VEVENT
UID:-1381375@schulmanager-online.de
DTSTAMP:20260423T161825Z
CREATED:20250909T093328Z
LAST-MODIFIED:20250909T093328Z
SUMMARY:Weihnachtsferien
DTSTART;VALUE=DATE:20251222
DTEND;VALUE=DATE:20260106
LOCATION:
DESCRIPTION:
END:VEVENT
BEGIN:VEVENT
UID:-1381376@schulmanager-online.de
DTSTAMP:20260423T161825Z
CREATED:20250909T093328Z
LAST-MODIFIED:20250909T093328Z
SUMMARY:Osterferien
DTSTART;VALUE=DATE:20260330
DTEND;VALUE=DATE:20260412
LOCATION:
DESCRIPTION:
END:VEVENT
BEGIN:VEVENT
UID:-1381377@schulmanager-online.de
DTSTAMP:20260423T161825Z
CREATED:20250909T093328Z
LAST-MODIFIED:20250909T093328Z
SUMMARY:Pfingstferien
DTSTART;VALUE=DATE:20260526
DTEND;VALUE=DATE:20260606
LOCATION:
DESCRIPTION:
END:VEVENT
BEGIN:VEVENT
UID:-1381378@schulmanager-online.de
DTSTAMP:20260423T161825Z
CREATED:20250909T093328Z
LAST-MODIFIED:20250909T093328Z
SUMMARY:Sommerferien
DTSTART;VALUE=DATE:20260730
DTEND;VALUE=DATE:20260913
LOCATION:
DESCRIPTION:
END:VEVENT
BEGIN:VEVENT
UID:-1381379@schulmanager-online.de
DTSTAMP:20260423T161825Z
CREATED:20250909T093328Z
LAST-MODIFIED:20250909T093328Z
SUMMARY:Tag der Deutschen Einheit
DTSTART;VALUE=DATE:20251003
DTEND;VALUE=DATE:20251004
LOCATION:
DESCRIPTION:
END:VEVENT
BEGIN:VEVENT
UID:-1381380@schulmanager-online.de
DTSTAMP:20260423T161825Z
CREATED:20250909T093328Z
LAST-MODIFIED:20250909T093328Z
SUMMARY:Allerheiligen
DTSTART;VALUE=DATE:20251101
DTEND;VALUE=DATE:20251102
LOCATION:
DESCRIPTION:
END:VEVENT
BEGIN:VEVENT
UID:-1381381@schulmanager-online.de
DTSTAMP:20260423T161825Z
CREATED:20250909T093328Z
LAST-MODIFIED:20250909T093328Z
SUMMARY:1. Weihnachtstag
DTSTART;VALUE=DATE:20251225
DTEND;VALUE=DATE:20251226
LOCATION:
DESCRIPTION:
END:VEVENT
BEGIN:VEVENT
UID:-1381382@schulmanager-online.de
DTSTAMP:20260423T161825Z
CREATED:20250909T093328Z
LAST-MODIFIED:20250909T093328Z
SUMMARY:2. Weihnachtstag
DTSTART;VALUE=DATE:20251226
DTEND;VALUE=DATE:20251227
LOCATION:
DESCRIPTION:
END:VEVENT
BEGIN:VEVENT
UID:-1381383@schulmanager-online.de
DTSTAMP:20260423T161825Z
CREATED:20250909T093328Z
LAST-MODIFIED:20250909T093328Z
SUMMARY:Neujahrstag
DTSTART;VALUE=DATE:20260101
DTEND;VALUE=DATE:20260102
LOCATION:
DESCRIPTION:
END:VEVENT
BEGIN:VEVENT
UID:-1381384@schulmanager-online.de
DTSTAMP:20260423T161825Z
CREATED:20250909T093329Z
LAST-MODIFIED:20250909T093329Z
SUMMARY:Heilige Drei Könige
DTSTART;VALUE=DATE:20260106
DTEND;VALUE=DATE:20260107
LOCATION:
DESCRIPTION:
END:VEVENT
BEGIN:VEVENT
UID:-1381385@schulmanager-online.de
DTSTAMP:20260423T161825Z
CREATED:20250909T093329Z
LAST-MODIFIED:20250909T093329Z
SUMMARY:Karfreitag
DTSTART;VALUE=DATE:20260403
DTEND;VALUE=DATE:20260404
LOCATION:
DESCRIPTION:
END:VEVENT
BEGIN:VEVENT
UID:-1381386@schulmanager-online.de
DTSTAMP:20260423T161825Z
CREATED:20250909T093329Z
LAST-MODIFIED:20250909T093329Z
SUMMARY:Ostermontag
DTSTART;VALUE=DATE:20260406
DTEND;VALUE=DATE:20260407
LOCATION:
DESCRIPTION:
END:VEVENT
BEGIN:VEVENT
UID:-1381387@schulmanager-online.de
DTSTAMP:20260423T161825Z
CREATED:20250909T093329Z
LAST-MODIFIED:20250909T093329Z
SUMMARY:Tag der Arbeit / 1. Mai
DTSTART;VALUE=DATE:20260501
DTEND;VALUE=DATE:20260502
LOCATION:
DESCRIPTION:
END:VEVENT
BEGIN:VEVENT
UID:-1381388@schulmanager-online.de
DTSTAMP:20260423T161825Z
CREATED:20250909T093329Z
LAST-MODIFIED:20250909T093329Z
SUMMARY:Christi Himmelfahrt
DTSTART;VALUE=DATE:20260514
DTEND;VALUE=DATE:20260515
LOCATION:
DESCRIPTION:
END:VEVENT
BEGIN:VEVENT
UID:-1381389@schulmanager-online.de
DTSTAMP:20260423T161825Z
CREATED:20250909T093329Z
LAST-MODIFIED:20250909T093329Z
SUMMARY:Pfingstmontag
DTSTART;VALUE=DATE:20260525
DTEND;VALUE=DATE:20260526
LOCATION:
DESCRIPTION:
END:VEVENT
BEGIN:VEVENT
UID:-1381390@schulmanager-online.de
DTSTAMP:20260423T161825Z
CREATED:20250909T093329Z
LAST-MODIFIED:20250909T093329Z
SUMMARY:Fronleichnam
DTSTART;VALUE=DATE:20260604
DTEND;VALUE=DATE:20260605
LOCATION:
DESCRIPTION:
END:VEVENT
BEGIN:VEVENT
UID:-1388780@schulmanager-online.de
DTSTAMP:20260423T161825Z
CREATED:20250911T172050Z
LAST-MODIFIED:20250911T172050Z
SUMMARY:Winterferien
DTSTART;VALUE=DATE:20260216
DTEND;VALUE=DATE:20260224
LOCATION:
DESCRIPTION:
END:VEVENT
BEGIN:VEVENT
UID:-1388781@schulmanager-online.de
DTSTAMP:20260423T161825Z
CREATED:20250911T172201Z
LAST-MODIFIED:20250911T172201Z
SUMMARY:Himmelfahrtsbrücke
DTSTART;VALUE=DATE:20260515
DTEND;VALUE=DATE:20260516
LOCATION:
DESCRIPTION:
END:VEVENT
BEGIN:VEVENT
UID:-1388782@schulmanager-online.de
DTSTAMP:20260423T161825Z
CREATED:20250911T172352Z
LAST-MODIFIED:20251022T055421Z
SUMMARY:unterrichtsfrei - mündl. Abi
DTSTART;VALUE=DATE:20260702
DTEND;VALUE=DATE:20260704
LOCATION:
DESCRIPTION:
END:VEVENT
BEGIN:VEVENT
UID:-1403734@schulmanager-online.de
DTSTAMP:20260423T161825Z
CREATED:20260210T064950Z
LAST-MODIFIED:20260210T064950Z
SUMMARY:Pädagogischer Tag
DTSTART;VALUE=DATE:20260213
DTEND;VALUE=DATE:20260214
LOCATION:
DESCRIPTION:
END:VEVENT
END:VCALENDAR